BEGIN:VCALENDAR
VERSION:2.0
PRODID:-//wp-events-plugin.com//7.2.3.1//EN
TZID:America/New_York
X-WR-TIMEZONE:America/New_York
BEGIN:VEVENT
UID:249@blog.ecmdi.com
DTSTART;TZID=America/New_York:20220301T100000
DTEND;TZID=America/New_York:20220301T110000
DTSTAMP:20220218T181824Z
URL:https://blog.ecmdi.com/events/why-your-customers-care-about-indoor-air
 -quality/
SUMMARY:Why Your Customers Care About Indoor Air Quality
DESCRIPTION:Location: Online Webinar\n\nWe will discuss the benefits of va
 rious IAQ products\, why they are essential to all homeowners\, and how to
  position yourself to be a consultant for a healthier lifestyle and longer
  equipment life.\n\n10:00AM  REGISTER HERE\n\n2:00PM REGISTER HERE
CATEGORIES:PRO Training
END:VEVENT
BEGIN:VTIMEZONE
TZID:America/New_York
X-LIC-LOCATION:America/New_York
BEGIN:STANDARD
DTSTART:20211107T010000
TZOFFSETFROM:-0400
TZOFFSETTO:-0500
TZNAME:EST
END:STANDARD
END:VTIMEZONE
END:VCALENDAR