BEGIN:VCALENDAR
VERSION:2.0
PRODID:-//wp-events-plugin.com//7.2.3.1//EN
TZID:America/New_York
X-WR-TIMEZONE:America/New_York
BEGIN:VEVENT
UID:80@blog.ecmdi.com
DTSTART;TZID=America/New_York:20201008T100000
DTEND;TZID=America/New_York:20201008T130000
DTSTAMP:20201001T152528Z
URL:https://blog.ecmdi.com/events/webinar-procatprofessional-loosefill-ins
 ulation-system/
SUMMARY:Webinar: ProCat®Professional Loosefill Insulation System
DESCRIPTION:Expand your business with the ProCat® Professional Loosefill I
 nsulation System. It’s a portable\, easy-to-use blown-in insulation syst
 em that enables you to easily add attic insulation services to your busine
 ss offering. We even train your team!\n\nSign up for one of our free webin
 ars to see if the ProCat®Professional Loosefill Insulation System is righ
 t for your business.\n\nAsk your local branch or salesperson for more info
 rmation.\n\nSIGN UP HERE
CATEGORIES:PRO Training
END:VEVENT
BEGIN:VTIMEZONE
TZID:America/New_York
X-LIC-LOCATION:America/New_York
BEGIN:DAYLIGHT
DTSTART:20200308T030000
TZOFFSETFROM:-0500
TZOFFSETTO:-0400
TZNAME:EDT
END:DAYLIGHT
END:VTIMEZONE
END:VCALENDAR