BEGIN:VCALENDAR
VERSION:2.0
PRODID:-//wp-events-plugin.com//7.2.3.1//EN
TZID:America/New_York
X-WR-TIMEZONE:America/New_York
BEGIN:VEVENT
UID:248@blog.ecmdi.com
DTSTART;TZID=America/New_York:20220421T080000
DTEND;TZID=America/New_York:20220421T160000
DTSTAMP:20220222T152206Z
URL:https://blog.ecmdi.com/events/residential-hvac-system-design-1-day/
SUMMARY:Residential HVAC System Design (1-Day)
DESCRIPTION:Objectives\n\n 	Manual J overview to include the Do's and Don't
 s while performing load calculations.\n 	Manual S overview and implementat
 ion of the New 2018 ACCA Manual S Sizing Guidelines.\n 	Manual D overview 
 and the requirements of duct designs and duct blasting.\n 	Wrightsoft over
 view and "live demonstration" of a simple block load calculation.\n\nCours
 e Description\n\n 	This course introduces the principles and concepts of c
 onventional residential heating and cooling system design.\n 	Topics inclu
 de basic heating and cooling load estimating\, equipment selection and duc
 t design.\n 	System design using computer-aided software (class demonstrat
 ion).\n\nAdditional Course Details\n\n 	$189 per person\n 	Payment due at 
 training\n 	20 person limit\n
CATEGORIES:PRO Training
LOCATION:East Coast Metal Distributors\, 5908 Thurston Ave\, Virginia Beach
 \, VA\, 23455-3339\, United States
GEO:36.894855;-76.187883
X-APPLE-STRUCTURED-LOCATION;VALUE=URI;X-ADDRESS=5908 Thurston Ave\, Virgini
 a Beach\, VA\, 23455-3339\, United States;X-APPLE-RADIUS=100;X-TITLE=East 
 Coast Metal Distributors:geo:36.894855,-76.187883
END:VEVENT
BEGIN:VTIMEZONE
TZID:America/New_York
X-LIC-LOCATION:America/New_York
BEGIN:DAYLIGHT
DTSTART:20220313T030000
TZOFFSETFROM:-0500
TZOFFSETTO:-0400
TZNAME:EDT
END:DAYLIGHT
END:VTIMEZONE
END:VCALENDAR