BEGIN:VCALENDAR
VERSION:2.0
PRODID:-//wp-events-plugin.com//7.2.3.1//EN
TZID:America/New_York
X-WR-TIMEZONE:America/New_York
BEGIN:VEVENT
UID:195@blog.ecmdi.com
DTSTART;TZID=America/New_York:20211005T110000
DTEND;TZID=America/New_York:20211005T120000
DTSTAMP:20211001T152016Z
URL:https://blog.ecmdi.com/events/quick-order-oncall-airs-latest-feature-t
 ransforms-how-your-contractors-order-east-coast-metal-products/
SUMMARY:Quick Order: OnCall Air's latest feature transforms how your contra
 ctors order East Coast Metal products
DESCRIPTION:Tuesday\, October 5th at 11:00 AM EDT\,\n\nQuick Order is here!
  OnCall Air's latest feature will transform how your contractors order equ
 ipment.\n\nYour contractors can now simply click a button on their proposa
 l to copy any East Coast Metal products on their proposal over to their eC
 ommerce shopping cart. Then\, they just confirm the items in their cart an
 d check out. It's that easy!\n\nIn this webinar\, we will have a live demo
 nstration of the new Quick Order feature\, explain why this feature is so 
 important for both you and your contractors\, and answer any questions you
  may have.\n\n&nbsp\;\n\nREGISTER NOW
CATEGORIES:PRO Training
END:VEVENT
BEGIN:VTIMEZONE
TZID:America/New_York
X-LIC-LOCATION:America/New_York
BEGIN:DAYLIGHT
DTSTART:20210314T030000
TZOFFSETFROM:-0500
TZOFFSETTO:-0400
TZNAME:EDT
END:DAYLIGHT
END:VTIMEZONE
END:VCALENDAR