BEGIN:VCALENDAR
VERSION:2.0
PRODID:-//wp-events-plugin.com//7.2.3.1//EN
TZID:America/New_York
X-WR-TIMEZONE:America/New_York
BEGIN:VEVENT
UID:213@blog.ecmdi.com
DTSTART;TZID=America/New_York:20211102T100000
DTEND;TZID=America/New_York:20211102T110000
DTSTAMP:20211028T193313Z
URL:https://blog.ecmdi.com/events/p-trap-designs-2/
SUMMARY:P-Trap Designs
DESCRIPTION:November 2\, 2021 at 10:00AM EST\n\nEver have concerns about wh
 ich P Trap Design works best for a specific installation? With such a wide
  variety of choices\, it can be a difficult decision. Take this course and
  learn how to select the best P Trap options. After completing the trainin
 g\, you'll be recognized as a P Trap expert.\n\nREGISTER HERE
CATEGORIES:PRO Training
END:VEVENT
BEGIN:VTIMEZONE
TZID:America/New_York
X-LIC-LOCATION:America/New_York
BEGIN:DAYLIGHT
DTSTART:20210314T030000
TZOFFSETFROM:-0500
TZOFFSETTO:-0400
TZNAME:EDT
END:DAYLIGHT
END:VTIMEZONE
END:VCALENDAR