BEGIN:VCALENDAR
VERSION:2.0
PRODID:-//wp-events-plugin.com//7.2.3.1//EN
TZID:America/New_York
X-WR-TIMEZONE:America/New_York
BEGIN:VEVENT
UID:25@blog.ecmdi.com
DTSTART;TZID=America/New_York:20190403T130000
DTEND;TZID=America/New_York:20190403T160000
DTSTAMP:20190328T202841Z
URL:https://blog.ecmdi.com/events/daikin-ductless-installation-and-service
 -training-greenville-sc/
SUMMARY:Daikin Ductless Installation and Service Training -- Greenville\, S
 C
DESCRIPTION:To Discuss:\n\n\n 	- Mini Split Principles\n 	- Inverter Techno
 logy Made Simple\n 	- Applications\n 	- Product Overview\n 	- Installation
 \n 	- Service\n 	- Maintenance\n\nFee: $50 per person\nFor more informatio
 n or to register: Contact your local branch or TM\n
CATEGORIES:PRO Training
LOCATION:Hampton Inn\, 15 Park Woodruff Dr.\, Greenville\, SC\, 29607\, Uni
 ted States
GEO:34.8227908;-82.2928129
X-APPLE-STRUCTURED-LOCATION;VALUE=URI;X-ADDRESS=15 Park Woodruff Dr.\, Gree
 nville\, SC\, 29607\, United States;X-APPLE-RADIUS=100;X-TITLE=Hampton Inn
 :geo:34.8227908,-82.2928129
END:VEVENT
BEGIN:VTIMEZONE
TZID:America/New_York
X-LIC-LOCATION:America/New_York
BEGIN:DAYLIGHT
DTSTART:20190310T030000
TZOFFSETFROM:-0500
TZOFFSETTO:-0400
TZNAME:EDT
END:DAYLIGHT
END:VTIMEZONE
END:VCALENDAR