BEGIN:VCALENDAR
VERSION:2.0
PRODID:-//wp-events-plugin.com//7.2.3.1//EN
TZID:America/New_York
X-WR-TIMEZONE:America/New_York
BEGIN:VEVENT
UID:99@blog.ecmdi.com
DTSTART;TZID=America/New_York:20201118T080000
DTEND;TZID=America/New_York:20201118T100000
DTSTAMP:20201109T183423Z
URL:https://blog.ecmdi.com/events/daikin-ductless-install-2/
SUMMARY:DAIKIN: Ductless Install
DESCRIPTION:Ductless Install\n\nTime: 8am-10am CST \n\nInstructors: Anspach
 /Elizondo\n\nRegister here: https://attendee.gotowebinar.com/rt/3422464944
 66789648\n\nWant to be notified of these events in the future? Sign up for
  a Daikin City account: https://bit.ly/34TvzEj\n\n&nbsp\;\n\nOther days ar
 e available for this webinar:\n\nDay 1 - Nov 17– https://attendee.gotowe
 binar.com/rt/4122607164295522064\nDay 2 - Nov 18 – https://attendee.goto
 webinar.com/rt/342246494466789648\nDay 3 - Nov 19 – https://attendee.got
 owebinar.com/rt/2114399753697554448\nDay 4 - Nov 20 – https://attendee.g
 otowebinar.com/rt/1903262734838992400
CATEGORIES:Dealer Events,PRO Training
END:VEVENT
BEGIN:VTIMEZONE
TZID:America/New_York
X-LIC-LOCATION:America/New_York
BEGIN:STANDARD
DTSTART:20201101T010000
TZOFFSETFROM:-0400
TZOFFSETTO:-0500
TZNAME:EST
END:STANDARD
END:VTIMEZONE
END:VCALENDAR