BEGIN:VCALENDAR
VERSION:2.0
PRODID:-//wp-events-plugin.com//7.2.3.1//EN
TZID:America/New_York
X-WR-TIMEZONE:America/New_York
BEGIN:VEVENT
UID:368@blog.ecmdi.com
DTSTART;TZID=America/New_York:20241001T080000
DTEND;TZID=America/New_York:20241001T120000
DTSTAMP:20240815T142637Z
URL:https://blog.ecmdi.com/events/are-you-r-32-ready-virginia-beach-va-10-
 1-24/
SUMMARY:Are you R-32 Ready? - Virginia Beach\, VA 10/1/24
DESCRIPTION:R-32 is here! Are you ready? Learn about the newest generation 
 of Low-GWP A2L equipment utilizing R-32 refrigerant from the Amana Brand a
 nd Goodman Manufacturing. Confidently serve your customers from a place of
  knowledge and expertise with our R-32 HVAC Pro Training.\n\n&nbsp\;
CATEGORIES:PRO Training
LOCATION:East Coast Metal Distributors\, 5908 Thurston Ave\, Virginia Beach
 \, VA\, 23455\, United States
GEO:36.894384;-76.188007
X-APPLE-STRUCTURED-LOCATION;VALUE=URI;X-ADDRESS=5908 Thurston Ave\, Virgini
 a Beach\, VA\, 23455\, United States;X-APPLE-RADIUS=100;X-TITLE=East Coast
  Metal Distributors:geo:36.894384,-76.188007
END:VEVENT
BEGIN:VTIMEZONE
TZID:America/New_York
X-LIC-LOCATION:America/New_York
BEGIN:DAYLIGHT
DTSTART:20240310T030000
TZOFFSETFROM:-0500
TZOFFSETTO:-0400
TZNAME:EDT
END:DAYLIGHT
END:VTIMEZONE
END:VCALENDAR